BEGIN:VCALENDAR
VERSION:2.0
PRODID:-//eventon.com NONSGML v1.0//EN
CALSCALE:GREGORIAN
METHOD:PUBLISH
BEGIN:VEVENT
UID:69e5f01a049d5
DTSTAMP:20260420T092130Z
DTSTART:20200528T000000Z
DTEND:20200528T235900Z
LOCATION:Schalander Frankfurter Str. 9\,  63500 Seligenstadt
SUMMARY:Seligenstadt Schalander
DESCRIPTION:Menzel Mutzke Quartett\nhttps://www.menzelmutzke.de/events/seli
 genstadt-schalander/
URL:https://www.menzelmutzke.de/events/seligenstadt-schalander/
END:VEVENT
END:VCALENDAR